BEGIN:VCALENDAR
VERSION:2.0
PRODID:-//hacksw/handcal//NONSGML v1.0//EN
CALSCALE:GREGORIAN
BEGIN:VEVENT
LOCATION:
SUMMARY:Capturing alternative sources of funding &#038\; financing for sustainable energy and climate actions : insights and good practices from the Smart Cities Marketplace and SCALABLE CITIES initiatives
DESCRIPTION:Capturing alternative sources of funding &#038\; financing for sustainable energy and climate actions : insights and good practices from the Smart Cities Marketplace and SCALABLE CITIES initiatives
DTSTART:20221011T143000
DTEND:20221011T160000
URL;VALUE=URI:https://energy-cities.eu/event/capturing-alternative-sources-of-funding-financing-for-sustainable-energy-and-climate-actions-insights-and-good-practices-from-the-smart-cities-marketplace-and-scalable-cities-initiatives/
DTSTAMP:now
UID:659768d6b0028
END:VEVENT
END:VCALENDAR