BEGIN:VCALENDAR
VERSION:2.0
PRODID:-//hacksw/handcal//NONSGML v1.0//EN
CALSCALE:GREGORIAN
BEGIN:VEVENT
LOCATION:
SUMMARY:Celsius Summit 2021 – Energy Democracy
DESCRIPTION:Celsius Summit 2021 – Energy Democracy
DTSTART:20211124T133000
DTEND:20211125T123000
URL;VALUE=URI:https://energy-cities.eu/event/celsius-summit-2021-energy-democracy/
DTSTAMP:now
UID:659769e04d29a
END:VEVENT
END:VCALENDAR