BEGIN:VCALENDAR
VERSION:2.0
PRODID:-//hacksw/handcal//NONSGML v1.0//EN
CALSCALE:GREGORIAN
BEGIN:VEVENT
LOCATION:
SUMMARY:Changement de comportement en mobilité : des outils pour accompagner les territoires
DESCRIPTION:Changement de comportement en mobilité : des outils pour accompagner les territoires
DTSTART:20220120T160000
DTEND:20220120T173000
URL;VALUE=URI:https://energy-cities.eu/fr/evenement/changement-de-comportement-en-mobilite-des-outils-pour-accompagner-les-territoires/
DTSTAMP:now
UID:65976f3aa4fdc
END:VEVENT
END:VCALENDAR