BEGIN:VCALENDAR
VERSION:2.0
PRODID:-//hacksw/handcal//NONSGML v1.0//EN
CALSCALE:GREGORIAN
BEGIN:VEVENT
LOCATION:
SUMMARY:Changer la ville par le vélo
DESCRIPTION:Changer la ville par le vélo
DTSTART:20210921T000000
DTEND:20210921T000000
URL;VALUE=URI:https://energy-cities.eu/fr/evenement/changer-la-ville-par-le-velo/
DTSTAMP:now
UID:65976957cfc55
END:VEVENT
END:VCALENDAR