BEGIN:VCALENDAR
VERSION:2.0
PRODID:-//hacksw/handcal//NONSGML v1.0//EN
CALSCALE:GREGORIAN
BEGIN:VEVENT
LOCATION:
SUMMARY:Changer les comportements de mobilité : outils et leviers pour l’action
DESCRIPTION:Changer les comportements de mobilité : outils et leviers pour l’action
DTSTART:20201216T090000
DTEND:20201216T103000
URL;VALUE=URI:https://energy-cities.eu/fr/evenement/changer-les-comportements-de-mobilite-outils-et-leviers-pour-laction/
DTSTAMP:now
UID:6597722a96fc1
END:VEVENT
END:VCALENDAR