BEGIN:VCALENDAR
VERSION:2.0
PRODID:-//hacksw/handcal//NONSGML v1.0//EN
CALSCALE:GREGORIAN
BEGIN:VEVENT
LOCATION:
SUMMARY:Changing narratives of energy efficiency in times of energy crisis
DESCRIPTION:Changing narratives of energy efficiency in times of energy crisis
DTSTART:20221012T133000
DTEND:20221012T150000
URL;VALUE=URI:https://energy-cities.eu/event/changing-narratives-of-energy-efficiency-in-times-of-energy-crisis/
DTSTAMP:now
UID:65976ff3609b3
END:VEVENT
END:VCALENDAR