BEGIN:VCALENDAR
VERSION:2.0
PRODID:-//hacksw/handcal//NONSGML v1.0//EN
CALSCALE:GREGORIAN
BEGIN:VEVENT
LOCATION:
SUMMARY:Circuits courts de l’énergie et solidarité énergétiques locales
DESCRIPTION:Circuits courts de l’énergie et solidarité énergétiques locales
DTSTART:20220524T183000
DTEND:20220524T203000
URL;VALUE=URI:https://energy-cities.eu/fr/evenement/circuits-courts-de-lenergie-et-solidarite-energetiques-locales/
DTSTAMP:now
UID:659776fa91ef7
END:VEVENT
END:VCALENDAR