BEGIN:VCALENDAR
VERSION:2.0
PRODID:-//hacksw/handcal//NONSGML v1.0//EN
CALSCALE:GREGORIAN
BEGIN:VEVENT
LOCATION:
SUMMARY:Cities and citizens for the win &#8211\; learning from new dream teams for energy communities
DESCRIPTION:Cities and citizens for the win &#8211\; learning from new dream teams for energy communities
DTSTART:20230613T100000
DTEND:20230613T113000
URL;VALUE=URI:https://energy-cities.eu/event/cities-and-citizens-for-the-win-learning-from-new-dream-teams-for-energy-communities￼/
DTSTAMP:now
UID:6597676dad51e
END:VEVENT
END:VCALENDAR