BEGIN:VCALENDAR
VERSION:2.0
PRODID:-//hacksw/handcal//NONSGML v1.0//EN
CALSCALE:GREGORIAN
BEGIN:VEVENT
LOCATION:
SUMMARY:Cities leading the climate neutrality transition through local climate pacts
DESCRIPTION:Cities leading the climate neutrality transition through local climate pacts
DTSTART:20220330T160000
DTEND:20220330T173000
URL;VALUE=URI:https://energy-cities.eu/event/cities-leading-the-climate-neutrality-transition-through-local-climate-pacts/
DTSTAMP:now
UID:659765af08a41
END:VEVENT
END:VCALENDAR