BEGIN:VCALENDAR
VERSION:2.0
PRODID:-//hacksw/handcal//NONSGML v1.0//EN
CALSCALE:GREGORIAN
BEGIN:VEVENT
LOCATION:
SUMMARY:Citizen Energy Communities: Engaging People and Technologies in the Future of Energy
DESCRIPTION:Citizen Energy Communities: Engaging People and Technologies in the Future of Energy
DTSTART:20220908T140000
DTEND:20220908T153000
URL;VALUE=URI:https://energy-cities.eu/event/citizen-energy-communities-engaging-people-and-technologies-in-the-future-of-energy/
DTSTAMP:now
UID:65976a6b1d091
END:VEVENT
END:VCALENDAR