BEGIN:VCALENDAR
VERSION:2.0
PRODID:-//hacksw/handcal//NONSGML v1.0//EN
CALSCALE:GREGORIAN
BEGIN:VEVENT
LOCATION:
SUMMARY:Citizen Finance: people investing in their cities’ sustainable future
DESCRIPTION:Citizen Finance: people investing in their cities’ sustainable future
DTSTART:20200609T100000
DTEND:20200609T113000
URL;VALUE=URI:https://energy-cities.eu/event/citizen-finance-people-investing-in-their-cities-sustainable-future/
DTSTAMP:now
UID:65977234329ed
END:VEVENT
END:VCALENDAR