BEGIN:VCALENDAR
VERSION:2.0
PRODID:-//hacksw/handcal//NONSGML v1.0//EN
CALSCALE:GREGORIAN
BEGIN:VEVENT
LOCATION:
SUMMARY:Citizen Participation: key to building public support for the energy transition
DESCRIPTION:Citizen Participation: key to building public support for the energy transition
DTSTART:20220601T090000
DTEND:20220601T130000
URL;VALUE=URI:https://energy-cities.eu/event/citizen-participation-key-to-building-public-support-for-the-energy-transition/
DTSTAMP:now
UID:65976a4bc8636
END:VEVENT
END:VCALENDAR