BEGIN:VCALENDAR
VERSION:2.0
PRODID:-//hacksw/handcal//NONSGML v1.0//EN
CALSCALE:GREGORIAN
BEGIN:VEVENT
LOCATION:
SUMMARY:Citizen and community energy. Transposition guidance for REDII and IEMD
DESCRIPTION:Citizen and community energy. Transposition guidance for REDII and IEMD
DTSTART:20201117T110000
DTEND:20201117T123000
URL;VALUE=URI:https://energy-cities.eu/event/citizen-and-community-energy-transposition-guidance-for-redii-and-iemd/
DTSTAMP:now
UID:6597649083191
END:VEVENT
END:VCALENDAR