BEGIN:VCALENDAR
VERSION:2.0
PRODID:-//hacksw/handcal//NONSGML v1.0//EN
CALSCALE:GREGORIAN
BEGIN:VEVENT
LOCATION:
SUMMARY:Citizen energy\, energy communities&#8230\;. What about local governments?
DESCRIPTION:Citizen energy\, energy communities&#8230\;. What about local governments?
DTSTART:20191205T103000
DTEND:20191205T000000
URL;VALUE=URI:https://energy-cities.eu/event/energie-citoyenne-quelle-implication-des-collectivites-locales/
DTSTAMP:now
UID:6597686467226
END:VEVENT
END:VCALENDAR