BEGIN:VCALENDAR
VERSION:2.0
PRODID:-//hacksw/handcal//NONSGML v1.0//EN
CALSCALE:GREGORIAN
BEGIN:VEVENT
LOCATION:
SUMMARY:Citycircle Final Conference
DESCRIPTION:Citycircle Final Conference
DTSTART:20220323T000000
DTEND:20220324T000000
URL;VALUE=URI:https://energy-cities.eu/event/citycircle-final-conference/
DTSTAMP:now
UID:6597638a651f7
END:VEVENT
END:VCALENDAR