BEGIN:VCALENDAR
VERSION:2.0
PRODID:-//hacksw/handcal//NONSGML v1.0//EN
CALSCALE:GREGORIAN
BEGIN:VEVENT
LOCATION:
SUMMARY:Climate Pact Day of Action
DESCRIPTION:Climate Pact Day of Action
DTSTART:20210629T000000
DTEND:20210629T000000
URL;VALUE=URI:https://energy-cities.eu/event/climate-pact-day-of-action/
DTSTAMP:now
UID:65976b2096a8e
END:VEVENT
END:VCALENDAR