BEGIN:VCALENDAR
VERSION:2.0
PRODID:-//hacksw/handcal//NONSGML v1.0//EN
CALSCALE:GREGORIAN
BEGIN:VEVENT
LOCATION:
SUMMARY:Climate assessment of local budgets: the case of Strasbourg\, Paris &#038\; Oslo
DESCRIPTION:Climate assessment of local budgets: the case of Strasbourg\, Paris &#038\; Oslo
DTSTART:20210608T140000
DTEND:20210608T153000
URL;VALUE=URI:https://energy-cities.eu/event/climate-assessment-of-local-budgets-the-case-of-strasbourg-paris-oslo/
DTSTAMP:now
UID:65976e3d67734
END:VEVENT
END:VCALENDAR