BEGIN:VCALENDAR
VERSION:2.0
PRODID:-//hacksw/handcal//NONSGML v1.0//EN
CALSCALE:GREGORIAN
BEGIN:VEVENT
LOCATION:
SUMMARY:Combiner atténuation du changement climatique et adaptation pour une action climat plus efficace
DESCRIPTION:Combiner atténuation du changement climatique et adaptation pour une action climat plus efficace
DTSTART:20191212T110000
DTEND:20191212T003000
URL;VALUE=URI:https://energy-cities.eu/fr/evenement/combiner-attenuation-du-changement-climatique-et-adaptation-pour-une-action-climat-plus-efficace/
DTSTAMP:now
UID:659768d546002
END:VEVENT
END:VCALENDAR