BEGIN:VCALENDAR
VERSION:2.0
PRODID:-//hacksw/handcal//NONSGML v1.0//EN
CALSCALE:GREGORIAN
BEGIN:VEVENT
LOCATION:
SUMMARY:Comment favoriser la 4ème génération de réseau de chaleur et de climatisation ?
DESCRIPTION:Comment favoriser la 4ème génération de réseau de chaleur et de climatisation ?
DTSTART:20191209T110000
DTEND:20191209T000000
URL;VALUE=URI:https://energy-cities.eu/fr/evenement/how-to-foster-4th-generation-district-heating-and-cooling/
DTSTAMP:now
UID:65976c1446b99
END:VEVENT
END:VCALENDAR