BEGIN:VCALENDAR
VERSION:2.0
PRODID:-//hacksw/handcal//NONSGML v1.0//EN
CALSCALE:GREGORIAN
BEGIN:VEVENT
LOCATION:
SUMMARY:Comment passer d&rsquo\;une sobriété de crise à des changements durables ?
DESCRIPTION:Comment passer d&rsquo\;une sobriété de crise à des changements durables ?
DTSTART:20230309T113000
DTEND:20230309T130000
URL;VALUE=URI:https://energy-cities.eu/fr/evenement/comment-passer-dune-sobriete-de-crise-a-des-changements-durables/
DTSTAMP:now
UID:6597709f48463
END:VEVENT
END:VCALENDAR