BEGIN:VCALENDAR
VERSION:2.0
PRODID:-//hacksw/handcal//NONSGML v1.0//EN
CALSCALE:GREGORIAN
BEGIN:VEVENT
LOCATION:
SUMMARY:Communautés énergétiques\, autoproduction\, autoconsommation : cadrages\, pratiques et outils
DESCRIPTION:Communautés énergétiques\, autoproduction\, autoconsommation : cadrages\, pratiques et outils
DTSTART:20200623T000000
DTEND:20200915T000000
URL;VALUE=URI:https://energy-cities.eu/fr/evenement/energy-communities-for-collective-self-consumption-1-how-regulations-are-shaping-energy-communities/
DTSTAMP:now
UID:6597689539da7
END:VEVENT
END:VCALENDAR