BEGIN:VCALENDAR
VERSION:2.0
PRODID:-//hacksw/handcal//NONSGML v1.0//EN
CALSCALE:GREGORIAN
BEGIN:VEVENT
LOCATION:
SUMMARY:Communicating Climate Change
DESCRIPTION:Communicating Climate Change
DTSTART:20211117T150000
DTEND:20211117T170000
URL;VALUE=URI:https://energy-cities.eu/event/communicating-climate-change/
DTSTAMP:now
UID:65976ae15af09
END:VEVENT
END:VCALENDAR