BEGIN:VCALENDAR
VERSION:2.0
PRODID:-//hacksw/handcal//NONSGML v1.0//EN
CALSCALE:GREGORIAN
BEGIN:VEVENT
LOCATION:
SUMMARY:Communities for Future Policy week
DESCRIPTION:Communities for Future Policy week
DTSTART:20210920T000000
DTEND:20210928T000000
URL;VALUE=URI:https://energy-cities.eu/event/communities-for-future-policy-week/
DTSTAMP:now
UID:659766fae84e7
END:VEVENT
END:VCALENDAR