BEGIN:VCALENDAR
VERSION:2.0
PRODID:-//hacksw/handcal//NONSGML v1.0//EN
CALSCALE:GREGORIAN
BEGIN:VEVENT
LOCATION:
SUMMARY:Community Energy Ambassadors Course 2023
DESCRIPTION:Community Energy Ambassadors Course 2023
DTSTART:20231017T100000
DTEND:20231205T140000
URL;VALUE=URI:https://energy-cities.eu/event/community-energy-ambassadors-course-2023/
DTSTAMP:now
UID:6597683153bf3
END:VEVENT
END:VCALENDAR