BEGIN:VCALENDAR
VERSION:2.0
PRODID:-//hacksw/handcal//NONSGML v1.0//EN
CALSCALE:GREGORIAN
BEGIN:VEVENT
LOCATION:
SUMMARY:Conférence en ligne : Les chaînes de valeur de la transition énergétique
DESCRIPTION:Conférence en ligne : Les chaînes de valeur de la transition énergétique
DTSTART:20200325T000000
DTEND:20200325T000000
URL;VALUE=URI:https://energy-cities.eu/fr/evenement/conference-en-ligne-les-chaines-de-valeur-de-la-transition-energetique/
DTSTAMP:now
UID:65976ac0a5959
END:VEVENT
END:VCALENDAR