BEGIN:VCALENDAR
VERSION:2.0
PRODID:-//hacksw/handcal//NONSGML v1.0//EN
CALSCALE:GREGORIAN
BEGIN:VEVENT
LOCATION:
SUMMARY:Conference on European Missions
DESCRIPTION:Conference on European Missions
DTSTART:20211125T093000
DTEND:20211125T001500
URL;VALUE=URI:https://energy-cities.eu/event/conference-on-european-missions/
DTSTAMP:now
UID:65976ca9d13a1
END:VEVENT
END:VCALENDAR