BEGIN:VCALENDAR
VERSION:2.0
PRODID:-//hacksw/handcal//NONSGML v1.0//EN
CALSCALE:GREGORIAN
BEGIN:VEVENT
LOCATION:
SUMMARY:Connecting both sides of the Mediterranean: North-South shores dialogue at territorial level
DESCRIPTION:Connecting both sides of the Mediterranean: North-South shores dialogue at territorial level
DTSTART:20210609T100000
DTEND:20210609T120000
URL;VALUE=URI:https://energy-cities.eu/event/connecting-both-sides-of-the-mediterranean-north-south-shores-dialogue-at-territorial-level/
DTSTAMP:now
UID:659765352ddf7
END:VEVENT
END:VCALENDAR