BEGIN:VCALENDAR
VERSION:2.0
PRODID:-//hacksw/handcal//NONSGML v1.0//EN
CALSCALE:GREGORIAN
BEGIN:VEVENT
LOCATION:
SUMMARY:Contrats de gré à gré : quelle opportunité pour les territoires ?
DESCRIPTION:Contrats de gré à gré : quelle opportunité pour les territoires ?
DTSTART:20230324T110000
DTEND:20230324T003000
URL;VALUE=URI:https://energy-cities.eu/fr/evenement/contrats-de-gre-a-gre-quelle-opportunite-pour-les-territoires/
DTSTAMP:now
UID:659765d1b6ed6
END:VEVENT
END:VCALENDAR