BEGIN:VCALENDAR
VERSION:2.0
PRODID:-//hacksw/handcal//NONSGML v1.0//EN
CALSCALE:GREGORIAN
BEGIN:VEVENT
LOCATION:
SUMMARY:Conversations Carbone : quand le changement individuel passe à une autre échelle !
DESCRIPTION:Conversations Carbone : quand le changement individuel passe à une autre échelle !
DTSTART:20200123T140000
DTEND:20200123T153000
URL;VALUE=URI:https://energy-cities.eu/fr/evenement/conversations-carbone-quand-le-changement-individuel-passe-a-une-autre-echelle/
DTSTAMP:now
UID:659767aa58a4c
END:VEVENT
END:VCALENDAR