BEGIN:VCALENDAR
VERSION:2.0
PRODID:-//hacksw/handcal//NONSGML v1.0//EN
CALSCALE:GREGORIAN
BEGIN:VEVENT
LOCATION:
SUMMARY:Covenant of Mayors &#8211\; Stepping up action for a fairer\, climate-neutral Europe
DESCRIPTION:Covenant of Mayors &#8211\; Stepping up action for a fairer\, climate-neutral Europe
DTSTART:20210421T143000
DTEND:20210421T160000
URL;VALUE=URI:https://energy-cities.eu/event/covenant-of-mayors-stepping-up-action-for-a-fairer-climate-neutral-europe/
DTSTAMP:now
UID:65976f7fb84a4
END:VEVENT
END:VCALENDAR