BEGIN:VCALENDAR
VERSION:2.0
PRODID:-//hacksw/handcal//NONSGML v1.0//EN
CALSCALE:GREGORIAN
BEGIN:VEVENT
LOCATION:
SUMMARY:Covenant of Mayors Investment Forum – Energy Efficiency Finance Market Place
DESCRIPTION:Covenant of Mayors Investment Forum – Energy Efficiency Finance Market Place
DTSTART:20210615T000000
DTEND:20210616T000000
URL;VALUE=URI:https://energy-cities.eu/event/covenant-of-mayors-investment-forum-energy-efficiency-finance-market-place/
DTSTAMP:now
UID:65976f93a91fd
END:VEVENT
END:VCALENDAR