BEGIN:VCALENDAR
VERSION:2.0
PRODID:-//hacksw/handcal//NONSGML v1.0//EN
CALSCALE:GREGORIAN
BEGIN:VEVENT
LOCATION:
SUMMARY:Covid-19: Impact on the EU Energy Transition
DESCRIPTION:Covid-19: Impact on the EU Energy Transition
DTSTART:20200422T110000
DTEND:20200422T000000
URL;VALUE=URI:https://energy-cities.eu/event/covid-19-impact-on-the-eu-energy-transition/
DTSTAMP:now
UID:65977669d973a
END:VEVENT
END:VCALENDAR