BEGIN:VCALENDAR
VERSION:2.0
PRODID:-//hacksw/handcal//NONSGML v1.0//EN
CALSCALE:GREGORIAN
BEGIN:VEVENT
LOCATION:
SUMMARY:Cycling Cities I &#8211\; Strategic planning for cycling
DESCRIPTION:Cycling Cities I &#8211\; Strategic planning for cycling
DTSTART:20210121T140000
DTEND:20210121T153000
URL;VALUE=URI:https://energy-cities.eu/event/cycling-cities-i-strategic-planning-for-cycling/
DTSTAMP:now
UID:659771587a041
END:VEVENT
END:VCALENDAR