BEGIN:VCALENDAR
VERSION:2.0
PRODID:-//hacksw/handcal//NONSGML v1.0//EN
CALSCALE:GREGORIAN
BEGIN:VEVENT
LOCATION:
SUMMARY:Décarboner l’Administration publique : présentation du Rapport intermédiaire et Ateliers collaboratifs
DESCRIPTION:Décarboner l’Administration publique : présentation du Rapport intermédiaire et Ateliers collaboratifs
DTSTART:20210415T140000
DTEND:20210415T183000
URL;VALUE=URI:https://energy-cities.eu/fr/evenement/decarboner-ladministration-publique-presentation-du-rapport-intermediaire-et-ateliers-collaboratifs/
DTSTAMP:now
UID:65976c5b279e0
END:VEVENT
END:VCALENDAR