BEGIN:VCALENDAR
VERSION:2.0
PRODID:-//hacksw/handcal//NONSGML v1.0//EN
CALSCALE:GREGORIAN
BEGIN:VEVENT
LOCATION:
SUMMARY:Défis démocratiques et transition socio-écologique : un temps à réinventer la démocratie ?
DESCRIPTION:Défis démocratiques et transition socio-écologique : un temps à réinventer la démocratie ?
DTSTART:20200917T000000
DTEND:20200917T000000
URL;VALUE=URI:https://energy-cities.eu/fr/evenement/defis-democratiques-et-transition-socio-ecologique-un-temps-a-reinventer-la-democratie/
DTSTAMP:now
UID:65976d3f5a4cf
END:VEVENT
END:VCALENDAR