BEGIN:VCALENDAR
VERSION:2.0
PRODID:-//hacksw/handcal//NONSGML v1.0//EN
CALSCALE:GREGORIAN
BEGIN:VEVENT
LOCATION:
SUMMARY:Démocratie locale et implication citoyenne : Quelles réponses face à l&rsquo\;urgence écologique et sociale ?
DESCRIPTION:Démocratie locale et implication citoyenne : Quelles réponses face à l&rsquo\;urgence écologique et sociale ?
DTSTART:20200625T175500
DTEND:20200625T200000
URL;VALUE=URI:https://energy-cities.eu/fr/evenement/democratie-locale-et-implication-citoyenne-quelles-reponses-face-a-lurgence-ecologique-et-sociale/
DTSTAMP:now
UID:65976c76ebf4f
END:VEVENT
END:VCALENDAR