BEGIN:VCALENDAR
VERSION:2.0
PRODID:-//hacksw/handcal//NONSGML v1.0//EN
CALSCALE:GREGORIAN
BEGIN:VEVENT
LOCATION:
SUMMARY:DUT Call 2022: Info Day 2 (online)
DESCRIPTION:DUT Call 2022: Info Day 2 (online)
DTSTART:20221018T100000
DTEND:20221018T140000
URL;VALUE=URI:https://energy-cities.eu/event/dut-call-2022-info-day-2-online/
DTSTAMP:now
UID:6597634f4f542
END:VEVENT
END:VCALENDAR