BEGIN:VCALENDAR
VERSION:2.0
PRODID:-//hacksw/handcal//NONSGML v1.0//EN
CALSCALE:GREGORIAN
BEGIN:VEVENT
LOCATION:
SUMMARY:Decarbonising cooling systems
DESCRIPTION:Decarbonising cooling systems
DTSTART:20221125T100000
DTEND:20221125T120000
URL;VALUE=URI:https://energy-cities.eu/event/decarbonising-cooling-systems/
DTSTAMP:now
UID:6597703ef225e
END:VEVENT
END:VCALENDAR