BEGIN:VCALENDAR
VERSION:2.0
PRODID:-//hacksw/handcal//NONSGML v1.0//EN
CALSCALE:GREGORIAN
BEGIN:VEVENT
LOCATION:
SUMMARY:Delivering on the Renovation Wave: Supporting Narratives &#038\; Financing
DESCRIPTION:Delivering on the Renovation Wave: Supporting Narratives &#038\; Financing
DTSTART:20210427T140000
DTEND:20210427T163000
URL;VALUE=URI:https://energy-cities.eu/event/delivering-on-the-renovation-wave-supporting-narratives-financing/
DTSTAMP:now
UID:659767802ccde
END:VEVENT
END:VCALENDAR