BEGIN:VCALENDAR
VERSION:2.0
PRODID:-//hacksw/handcal//NONSGML v1.0//EN
CALSCALE:GREGORIAN
BEGIN:VEVENT
LOCATION:
SUMMARY:Des leviers pour les collectivités dans le domaine de l’alimentation durable 
DESCRIPTION:Des leviers pour les collectivités dans le domaine de l’alimentation durable 
DTSTART:20220630T100000
DTEND:20220630T113000
URL;VALUE=URI:https://energy-cities.eu/fr/evenement/des-leviers-pour-les-collectivites-dans-le-domaine-de-lalimentation-durable/
DTSTAMP:now
UID:659770e859cc6
END:VEVENT
END:VCALENDAR