BEGIN:VCALENDAR
VERSION:2.0
PRODID:-//hacksw/handcal//NONSGML v1.0//EN
CALSCALE:GREGORIAN
BEGIN:VEVENT
LOCATION:
SUMMARY:Destination North-West Europe – Take-off for Call 1!
DESCRIPTION:Destination North-West Europe – Take-off for Call 1!
DTSTART:20220331T140000
DTEND:20220331T160000
URL;VALUE=URI:https://energy-cities.eu/event/destination-north-west-europe-take-off-for-call-1/
DTSTAMP:now
UID:659767690bb42
END:VEVENT
END:VCALENDAR