BEGIN:VCALENDAR
VERSION:2.0
PRODID:-//hacksw/handcal//NONSGML v1.0//EN
CALSCALE:GREGORIAN
BEGIN:VEVENT
LOCATION:
SUMMARY:Developing ICT Tools for District-Scale Smart Energy Management
DESCRIPTION:Developing ICT Tools for District-Scale Smart Energy Management
DTSTART:20200915T140000
DTEND:20200915T153000
URL;VALUE=URI:https://energy-cities.eu/event/developing-ict-tools-for-district-scale-smart-energy-management/
DTSTAMP:now
UID:6597650fb94eb
END:VEVENT
END:VCALENDAR