BEGIN:VCALENDAR
VERSION:2.0
PRODID:-//hacksw/handcal//NONSGML v1.0//EN
CALSCALE:GREGORIAN
BEGIN:VEVENT
LOCATION:
SUMMARY:Digital Citymakers&#8217\; Summit
DESCRIPTION:Digital Citymakers&#8217\; Summit
DTSTART:20230125T140000
DTEND:20230125T160000
URL;VALUE=URI:https://energy-cities.eu/event/digital-citymakers-summiturban-solutions-for-global-problems/
DTSTAMP:now
UID:659770810f6dd
END:VEVENT
END:VCALENDAR