BEGIN:VCALENDAR
VERSION:2.0
PRODID:-//hacksw/handcal//NONSGML v1.0//EN
CALSCALE:GREGORIAN
BEGIN:VEVENT
LOCATION:
SUMMARY:Dispositif European City Facility (EUCF): Préparation du prochain appel à projets
DESCRIPTION:Dispositif European City Facility (EUCF): Préparation du prochain appel à projets
DTSTART:20210401T000000
DTEND:20210401T000000
URL;VALUE=URI:https://energy-cities.eu/fr/evenement/facilite-europeenne-pour-les-villes-eu-city-facility-eucf-preparation-du-prochain-appel-a-projets/
DTSTAMP:now
UID:65976bec57ac0
END:VEVENT
END:VCALENDAR