BEGIN:VCALENDAR
VERSION:2.0
PRODID:-//hacksw/handcal//NONSGML v1.0//EN
CALSCALE:GREGORIAN
BEGIN:VEVENT
LOCATION:
SUMMARY:Doughnut economy: webinar with Kate Raworth
DESCRIPTION:Doughnut economy: webinar with Kate Raworth
DTSTART:20210122T150000
DTEND:20210122T163000
URL;VALUE=URI:https://energy-cities.eu/event/doughnut-economy-webinar-with-kate-raworth/
DTSTAMP:now
UID:6597656d1b8a1
END:VEVENT
END:VCALENDAR