BEGIN:VCALENDAR
VERSION:2.0
PRODID:-//hacksw/handcal//NONSGML v1.0//EN
CALSCALE:GREGORIAN
BEGIN:VEVENT
LOCATION:
SUMMARY:Dublin Climate Action Week
DESCRIPTION:Dublin Climate Action Week
DTSTART:20210913T000000
DTEND:20210919T000000
URL;VALUE=URI:https://energy-cities.eu/event/dublin-climate-action-week/
DTSTAMP:now
UID:65976efb02542
END:VEVENT
END:VCALENDAR