BEGIN:VCALENDAR
VERSION:2.0
PRODID:-//hacksw/handcal//NONSGML v1.0//EN
CALSCALE:GREGORIAN
BEGIN:VEVENT
LOCATION:
SUMMARY:EHP &#038\; Celsius Talk: Local Leaders on the Front Lines
DESCRIPTION:EHP &#038\; Celsius Talk: Local Leaders on the Front Lines
DTSTART:20200617T143000
DTEND:20200617T164500
URL;VALUE=URI:https://energy-cities.eu/event/ehp-celsius-talk-local-leaders-on-the-front-lines/
DTSTAMP:now
UID:6597664046a7d
END:VEVENT
END:VCALENDAR