BEGIN:VCALENDAR
VERSION:2.0
PRODID:-//hacksw/handcal//NONSGML v1.0//EN
CALSCALE:GREGORIAN
BEGIN:VEVENT
LOCATION:
SUMMARY:EIT Food online course: Circular Business Models for Sustainable Urban Food Systems
DESCRIPTION:EIT Food online course: Circular Business Models for Sustainable Urban Food Systems
DTSTART:20201102T000000
DTEND:20201127T000000
URL;VALUE=URI:https://energy-cities.eu/event/eit-food-online-course-circular-business-models-for-sustainable-urban-food-systems/
DTSTAMP:now
UID:65977620af9eb
END:VEVENT
END:VCALENDAR