BEGIN:VCALENDAR
VERSION:2.0
PRODID:-//hacksw/handcal//NONSGML v1.0//EN
CALSCALE:GREGORIAN
BEGIN:VEVENT
LOCATION:
SUMMARY:EPAH &#8211\; How to Apply to the Call for Technical Assistance
DESCRIPTION:EPAH &#8211\; How to Apply to the Call for Technical Assistance
DTSTART:20220203T130000
DTEND:20220203T140000
URL;VALUE=URI:https://energy-cities.eu/event/energy-poverty-advisory-hub-how-to-apply-to-the-call-for-technical-assistance/
DTSTAMP:now
UID:65976776dfdc2
END:VEVENT
END:VCALENDAR