BEGIN:VCALENDAR
VERSION:2.0
PRODID:-//hacksw/handcal//NONSGML v1.0//EN
CALSCALE:GREGORIAN
BEGIN:VEVENT
LOCATION:
SUMMARY:EU Cities Acting for Just Transitions and Climate Adaptation
DESCRIPTION:EU Cities Acting for Just Transitions and Climate Adaptation
DTSTART:20220427T093000
DTEND:20220428T140000
URL;VALUE=URI:https://energy-cities.eu/event/eu-cities-acting-for-just-transitions-and-climate-adaptation/
DTSTAMP:now
UID:659776abc5e3b
END:VEVENT
END:VCALENDAR